BEGIN:VCALENDAR
VERSION:2.0
PRODID:-//jEvents 2.0 for Joomla//EN
CALSCALE:GREGORIAN
METHOD:PUBLISH
BEGIN:VTIMEZONE
TZID:Europe/Lisbon
BEGIN:STANDARD
DTSTART:20130106T000000
RDATE:20130331T020000
TZOFFSETFROM:+0100
TZOFFSETTO:+0000
TZNAME:Europe/Lisbon WET
END:STANDARD
BEGIN:STANDARD
DTSTART:20131027T010000
RDATE:20140330T020000
TZOFFSETFROM:+0100
TZOFFSETTO:+0000
TZNAME:Europe/Lisbon WET
END:STANDARD
BEGIN:STANDARD
DTSTART:20141026T010000
RDATE:20150329T020000
TZOFFSETFROM:+0100
TZOFFSETTO:+0000
TZNAME:Europe/Lisbon WET
END:STANDARD
BEGIN:STANDARD
DTSTART:20151025T010000
RDATE:20160327T020000
TZOFFSETFROM:+0100
TZOFFSETTO:+0000
TZNAME:Europe/Lisbon WET
END:STANDARD
BEGIN:STANDARD
DTSTART:20161030T010000
RDATE:20170326T020000
TZOFFSETFROM:+0100
TZOFFSETTO:+0000
TZNAME:Europe/Lisbon WET
END:STANDARD
BEGIN:STANDARD
DTSTART:20171029T010000
RDATE:20180325T020000
TZOFFSETFROM:+0100
TZOFFSETTO:+0000
TZNAME:Europe/Lisbon WET
END:STANDARD
BEGIN:STANDARD
DTSTART:20181028T010000
RDATE:20190331T020000
TZOFFSETFROM:+0100
TZOFFSETTO:+0000
TZNAME:Europe/Lisbon WET
END:STANDARD
BEGIN:STANDARD
DTSTART:20191027T010000
RDATE:20200329T020000
TZOFFSETFROM:+0100
TZOFFSETTO:+0000
TZNAME:Europe/Lisbon WET
END:STANDARD
BEGIN:STANDARD
DTSTART:20201025T010000
RDATE:20210328T020000
TZOFFSETFROM:+0100
TZOFFSETTO:+0000
TZNAME:Europe/Lisbon WET
END:STANDARD
BEGIN:DAYLIGHT
DTSTART:20130331T020000
RDATE:20131027T010000
TZOFFSETFROM:+0000
TZOFFSETTO:+0100
TZNAME:Europe/Lisbon WEST
END:DAYLIGHT
BEGIN:DAYLIGHT
DTSTART:20140330T020000
RDATE:20141026T010000
TZOFFSETFROM:+0000
TZOFFSETTO:+0100
TZNAME:Europe/Lisbon WEST
END:DAYLIGHT
BEGIN:DAYLIGHT
DTSTART:20150329T020000
RDATE:20151025T010000
TZOFFSETFROM:+0000
TZOFFSETTO:+0100
TZNAME:Europe/Lisbon WEST
END:DAYLIGHT
BEGIN:DAYLIGHT
DTSTART:20160327T020000
RDATE:20161030T010000
TZOFFSETFROM:+0000
TZOFFSETTO:+0100
TZNAME:Europe/Lisbon WEST
END:DAYLIGHT
BEGIN:DAYLIGHT
DTSTART:20170326T020000
RDATE:20171029T010000
TZOFFSETFROM:+0000
TZOFFSETTO:+0100
TZNAME:Europe/Lisbon WEST
END:DAYLIGHT
BEGIN:DAYLIGHT
DTSTART:20180325T020000
RDATE:20181028T010000
TZOFFSETFROM:+0000
TZOFFSETTO:+0100
TZNAME:Europe/Lisbon WEST
END:DAYLIGHT
BEGIN:DAYLIGHT
DTSTART:20190331T020000
RDATE:20191027T010000
TZOFFSETFROM:+0000
TZOFFSETTO:+0100
TZNAME:Europe/Lisbon WEST
END:DAYLIGHT
BEGIN:DAYLIGHT
DTSTART:20200329T020000
RDATE:20201025T010000
TZOFFSETFROM:+0000
TZOFFSETTO:+0100
TZNAME:Europe/Lisbon WEST
END:DAYLIGHT
END:VTIMEZONE
BEGIN:VEVENT
UID:20bca82051e24c52477d1825981a1fe8
CATEGORIES:Santos
SUMMARY:Beata Lindalva Justo de Oliveira
DESCRIPTION;ENCODING=QUOTED-PRINTABLE:\n\nBeata Lindalva, nasceu no sítio Malhada da Areia, município de Açu, Rio
  Grande do Norte, no Brasil. Beata Lindalva Justo de Oliveira, era filha do
  segundo casamento de João Justo da Fé (viúvo) e de Maria Lúcia da Fé, que 
 tiveram 12 filhos.\n\n\nBeata Lindalva, foi a sexta filha do casal e desde 
 pequena que mostrava sinais de uma especial predestinação divina, pois era 
 com naturalidade que se entregava às práticas de piedade. \n\n\nFoi crescen
 do como uma menina normal, de aspecto gracioso, piedosa e muito sensível co
 m os pobres, de tal modo que certa vez surprrendeu a sua família quando doo
 u as próprias roupas aos pobres. Mudou-se para a cidade de Natal, onde eest
 udava e trabalhava para se manter e ajudar a sua família. Todos os dias vis
 itava os idosos do Instituto Juvino Barreto.\n\n\nApós concluir o segundo g
 rau passou a cuidar do pai, idoso e já doente, com todo o carinho e paciênc
 ia. Quando o seu pai faleceu, Beata Lindalva, então com 33 anos entrou para
  a Companhia das Filhas da Caridade de São Vicente de Paulo: pois queria se
 rvir a Cristo nos pobres.\n\n\nNão foi fácil para a Beata Lindalva adaptar-
 se à nova vida, mas com a graça de Deus foi progredindo na sua caminhada es
 piritual, passo a passo, renúncia após renúncia. \n\n\nBeata Lindalva Olive
 ira foi superando as etapas da sua formação religiosa na prática das virtud
 es e lutava para corrigir os seus próprios defeitos e crescer no caminho da
  perfeição. \n\n\nTerminado o período do noviciado, Beata Lindalva foi envi
 ada para o Abrigo Dom Pedro II, em Salvador, recebendo a missão de coordena
 r uma enfermaria com 40 idosos, sendo responsável pela ala do pavilhão masc
 ulino. Beata Lindalva Oliveira fez o curso de Enfermagem para melhor se pod
 er dedicar aos doentes e idosos. à caridade, a Beata Lindalva unia o zelo e
 spiritual pelos seus assitidos, procurando conduzi-los a Cristo pela palavr
 a. A conduta da Beata Lindalva era impecável, alegre, pura e modesta com to
 dos. Encontrava ainda tempo para visitar os pobres em suas casas e procurav
 a meios para suprir as suas necessidades materiais. A Beata Lindalva de Oli
 veira sentia-se feliz e realizada no seu trabalho.\n\n\nNo ano de 1993, o a
 brigo acolheu Augusto da Silva Peixoto, um homem de 46 anos. Augusto Peixot
 o começou a assediar a Beata Lindalva e chegou mesmo a manifestar-lhe as su
 as intenções. A Beata Lindalva começou a ter medo e tentou afastar-se o mai
 s que pode, confidenciou-se com as outras irmãs e refugiava-se na oração. \
 n\n\nNa segunda-feira santa do ano de 1993, Augusto foi à Feira de São Joaq
 uim e comprou uma faca, que amolou ao chegar ao abrigo. \n\n\nNa sexta-feir
 a santa desse mesmo ano, ao regressar da Via Sacra na Paróquia da Boa Viage
 m, a Beata Lindalva foi servir o café da manhã aos idosos. Compenetrada com
  o café, a Beata Lindalva tinha a cabeça baixa quando sentiu um toque no om
 bro, ao virar-se deparou-se com Augusto que lhe desferiu várias facadas. \n
 \n\n\n\n\nNascimento: 20 de outubro de 1953\n\n\nMorte: 1993\n
DTSTAMP:20260420T183854Z
DTSTART;TZID=Europe/Lisbon;VALUE=DATE:20140107
DTEND;TZID=Europe/Lisbon;VALUE=DATE:20140108
SEQUENCE:0
TRANSP:OPAQUE
END:VEVENT
END:VCALENDAR