BEGIN:VCALENDAR
VERSION:2.0
PRODID:-//jEvents 2.0 for Joomla//EN
CALSCALE:GREGORIAN
METHOD:PUBLISH
BEGIN:VTIMEZONE
TZID:Europe/Lisbon
END:VTIMEZONE
BEGIN:VEVENT
UID:5e255f151e32745b7f7e5fdcc6759620
CATEGORIES:Santos
SUMMARY:São Miguel, São Gabriel e São Rafael
DESCRIPTION;ENCODING=QUOTED-PRINTABLE:
DTSTAMP:20260425T162944Z
DTSTART;TZID=Europe/Lisbon;VALUE=DATE:20360929
DTEND;TZID=Europe/Lisbon;VALUE=DATE:20360930
SEQUENCE:0
TRANSP:OPAQUE
END:VEVENT
END:VCALENDAR