BEGIN:VCALENDAR
VERSION:2.0
PRODID:-//jEvents 2.0 for Joomla//EN
CALSCALE:GREGORIAN
METHOD:PUBLISH
BEGIN:VEVENT
UID:3fc943a6c28dd83b8a0554ec773de587
CATEGORIES:Santos
SUMMARY:São Vicente de Paulo
DESCRIPTION;ENCODING=QUOTED-PRINTABLE:
DTSTAMP:20260425T114335Z
DTSTART;TZID=Europe/Lisbon;VALUE=DATE:20480927
DTEND;TZID=Europe/Lisbon;VALUE=DATE:20480928
SEQUENCE:0
TRANSP:OPAQUE
END:VEVENT
END:VCALENDAR