BEGIN:VCALENDAR
VERSION:2.0
PRODID:-//jEvents 2.0 for Joomla//EN
CALSCALE:GREGORIAN
METHOD:PUBLISH
BEGIN:VEVENT
UID:6353eee58fa257a48c93e784f7af715a
CATEGORIES:Santos
SUMMARY:Beatos Luís José Francisco, João Henrique Gruyer, Pedro Renato Rogue
DESCRIPTION;ENCODING=QUOTED-PRINTABLE:
DTSTAMP:20260425T114406Z
DTSTART;TZID=Europe/Lisbon;VALUE=DATE:20480901
DTEND;TZID=Europe/Lisbon;VALUE=DATE:20480902
SEQUENCE:0
TRANSP:OPAQUE
END:VEVENT
END:VCALENDAR