BEGIN:VCALENDAR
VERSION:2.0
PRODID:-//jEvents 2.0 for Joomla//EN
CALSCALE:GREGORIAN
METHOD:PUBLISH
BEGIN:VEVENT
UID:236f13fa68e32aeacbd5dd23bd10b988
CATEGORIES:Santos
SUMMARY:Fiacre
DESCRIPTION;ENCODING=QUOTED-PRINTABLE:
DTSTAMP:20260423T205737Z
DTSTART;TZID=Europe/Lisbon;VALUE=DATE:20400831
DTEND;TZID=Europe/Lisbon;VALUE=DATE:20400901
SEQUENCE:0
TRANSP:OPAQUE
END:VEVENT
END:VCALENDAR