BEGIN:VCALENDAR
VERSION:2.0
PRODID:-//jEvents 2.0 for Joomla//EN
CALSCALE:GREGORIAN
METHOD:PUBLISH
BEGIN:VEVENT
UID:f275288ccbaeee592f66ec47ecefae02
CATEGORIES:Santos
SUMMARY:Beatriz da Silva
DESCRIPTION;ENCODING=QUOTED-PRINTABLE:
DTSTAMP:20260423T210156Z
DTSTART;TZID=Europe/Lisbon;VALUE=DATE:20400831
DTEND;TZID=Europe/Lisbon;VALUE=DATE:20400901
SEQUENCE:0
TRANSP:OPAQUE
END:VEVENT
END:VCALENDAR