BEGIN:VCALENDAR
VERSION:2.0
PRODID:-//jEvents 2.0 for Joomla//EN
CALSCALE:GREGORIAN
METHOD:PUBLISH
BEGIN:VTIMEZONE
TZID:Europe/Lisbon
END:VTIMEZONE
BEGIN:VEVENT
UID:bc0b897d90ca4b5821844f3d6d4ef03f
CATEGORIES:Santos
SUMMARY:São Raimundo Nonata
DESCRIPTION;ENCODING=QUOTED-PRINTABLE:
DTSTAMP:20260421T234018Z
DTSTART;TZID=Europe/Lisbon;VALUE=DATE:20270831
DTEND;TZID=Europe/Lisbon;VALUE=DATE:20270901
SEQUENCE:0
TRANSP:OPAQUE
END:VEVENT
END:VCALENDAR