BEGIN:VCALENDAR
VERSION:2.0
PRODID:-//jEvents 2.0 for Joomla//EN
CALSCALE:GREGORIAN
METHOD:PUBLISH
BEGIN:VEVENT
UID:8dbe30d5ffd0656d821fd71063d23d0e
CATEGORIES:Santos
SUMMARY:Santa Faustina Kowalska 
DESCRIPTION;ENCODING=QUOTED-PRINTABLE:
DTSTAMP:20260423T224804Z
DTSTART;TZID=Europe/Lisbon;VALUE=DATE:20410830
DTEND;TZID=Europe/Lisbon;VALUE=DATE:20410831
SEQUENCE:0
TRANSP:OPAQUE
END:VEVENT
END:VCALENDAR