BEGIN:VCALENDAR
VERSION:2.0
PRODID:-//jEvents 2.0 for Joomla//EN
CALSCALE:GREGORIAN
METHOD:PUBLISH
BEGIN:VTIMEZONE
TZID:Europe/Lisbon
END:VTIMEZONE
BEGIN:VEVENT
UID:0189c7ef3a5d98b5962499d0159d0918
CATEGORIES:Santos
SUMMARY:Santa Joana Jugan
DESCRIPTION;ENCODING=QUOTED-PRINTABLE:
DTSTAMP:20260421T144326Z
DTSTART;TZID=Europe/Lisbon;VALUE=DATE:20220830
DTEND;TZID=Europe/Lisbon;VALUE=DATE:20220831
SEQUENCE:0
TRANSP:OPAQUE
END:VEVENT
END:VCALENDAR