BEGIN:VCALENDAR
VERSION:2.0
PRODID:-//jEvents 2.0 for Joomla//EN
CALSCALE:GREGORIAN
METHOD:PUBLISH
BEGIN:VTIMEZONE
TZID:Europe/Lisbon
END:VTIMEZONE
BEGIN:VEVENT
UID:aceefbb9ecb0320a81b1644a17542591
CATEGORIES:Santos
SUMMARY:Beato Eustáqui van Lieshout
DESCRIPTION;ENCODING=QUOTED-PRINTABLE:
DTSTAMP:20260421T143926Z
DTSTART;TZID=Europe/Lisbon;VALUE=DATE:20220830
DTEND;TZID=Europe/Lisbon;VALUE=DATE:20220831
SEQUENCE:0
TRANSP:OPAQUE
END:VEVENT
END:VCALENDAR