BEGIN:VCALENDAR
VERSION:2.0
PRODID:-//jEvents 2.0 for Joomla//EN
CALSCALE:GREGORIAN
METHOD:PUBLISH
BEGIN:VTIMEZONE
TZID:Europe/Lisbon
END:VTIMEZONE
BEGIN:VEVENT
UID:e3d070cc4e1367d17fad992aaef2ec08
CATEGORIES:Santos
SUMMARY:Martírio de São João Baptista
DESCRIPTION;ENCODING=QUOTED-PRINTABLE:
DTSTAMP:20260422T054445Z
DTSTART;TZID=Europe/Lisbon;VALUE=DATE:20300829
DTEND;TZID=Europe/Lisbon;VALUE=DATE:20300830
SEQUENCE:0
TRANSP:OPAQUE
END:VEVENT
END:VCALENDAR