BEGIN:VCALENDAR
VERSION:2.0
PRODID:-//jEvents 2.0 for Joomla//EN
CALSCALE:GREGORIAN
METHOD:PUBLISH
BEGIN:VTIMEZONE
TZID:Europe/Lisbon
END:VTIMEZONE
BEGIN:VEVENT
UID:ee039ac008ba78a198ee177bd9ebbef5
CATEGORIES:Santos
SUMMARY:Santo Agostinho
DESCRIPTION;ENCODING=QUOTED-PRINTABLE:
DTSTAMP:20260421T215420Z
DTSTART;TZID=Europe/Lisbon;VALUE=DATE:20270828
DTEND;TZID=Europe/Lisbon;VALUE=DATE:20270829
SEQUENCE:0
TRANSP:OPAQUE
END:VEVENT
END:VCALENDAR