BEGIN:VCALENDAR
VERSION:2.0
PRODID:-//jEvents 2.0 for Joomla//EN
CALSCALE:GREGORIAN
METHOD:PUBLISH
BEGIN:VTIMEZONE
TZID:Europe/Lisbon
END:VTIMEZONE
BEGIN:VEVENT
UID:09609701ec24568c32c77c65d55a87f3
CATEGORIES:Santos
SUMMARY:Beato Zeferino Namuncurá
DESCRIPTION;ENCODING=QUOTED-PRINTABLE:
DTSTAMP:20260421T200138Z
DTSTART;TZID=Europe/Lisbon;VALUE=DATE:20270826
DTEND;TZID=Europe/Lisbon;VALUE=DATE:20270827
SEQUENCE:0
TRANSP:OPAQUE
END:VEVENT
END:VCALENDAR