BEGIN:VCALENDAR
VERSION:2.0
PRODID:-//jEvents 2.0 for Joomla//EN
CALSCALE:GREGORIAN
METHOD:PUBLISH
BEGIN:VEVENT
UID:ae511c00e51eda6adfb6153f44379e44
CATEGORIES:Santos
SUMMARY:Beato Domingos da Mãe de Deus
DESCRIPTION;ENCODING=QUOTED-PRINTABLE:
DTSTAMP:20260423T105259Z
DTSTART;TZID=Europe/Lisbon;VALUE=DATE:20390826
DTEND;TZID=Europe/Lisbon;VALUE=DATE:20390827
SEQUENCE:0
TRANSP:OPAQUE
END:VEVENT
END:VCALENDAR