BEGIN:VCALENDAR
VERSION:2.0
PRODID:-//jEvents 2.0 for Joomla//EN
CALSCALE:GREGORIAN
METHOD:PUBLISH
BEGIN:VTIMEZONE
TZID:Europe/Lisbon
END:VTIMEZONE
BEGIN:VEVENT
UID:d2e7ebebbf1c3de3cc8dc913590dd208
CATEGORIES:Santos
SUMMARY:Santos Liberato, Bonifácio e Companheiros
DESCRIPTION;ENCODING=QUOTED-PRINTABLE:
DTSTAMP:20260421T143942Z
DTSTART;TZID=Europe/Lisbon;VALUE=DATE:20220826
DTEND;TZID=Europe/Lisbon;VALUE=DATE:20220827
SEQUENCE:0
TRANSP:OPAQUE
END:VEVENT
END:VCALENDAR