BEGIN:VCALENDAR
VERSION:2.0
PRODID:-//jEvents 2.0 for Joomla//EN
CALSCALE:GREGORIAN
METHOD:PUBLISH
BEGIN:VEVENT
UID:952844885118c26b2418353b2011cd93
CATEGORIES:Santos
SUMMARY:Santa Mónica
DESCRIPTION;ENCODING=QUOTED-PRINTABLE:
DTSTAMP:20260423T201251Z
DTSTART;TZID=Europe/Lisbon;VALUE=DATE:20400826
DTEND;TZID=Europe/Lisbon;VALUE=DATE:20400827
SEQUENCE:0
TRANSP:OPAQUE
END:VEVENT
END:VCALENDAR