BEGIN:VCALENDAR
VERSION:2.0
PRODID:-//jEvents 2.0 for Joomla//EN
CALSCALE:GREGORIAN
METHOD:PUBLISH
BEGIN:VEVENT
UID:b61d741a63f8a364a82088bc7b4ed045
CATEGORIES:Santos
SUMMARY:São João Maria Vianney
DESCRIPTION;ENCODING=QUOTED-PRINTABLE:
DTSTAMP:20260425T132918Z
DTSTART;TZID=Europe/Lisbon;VALUE=DATE:20520803
DTEND;TZID=Europe/Lisbon;VALUE=DATE:20520805
SEQUENCE:0
TRANSP:OPAQUE
END:VEVENT
END:VCALENDAR