BEGIN:VCALENDAR
VERSION:2.0
PRODID:-//jEvents 2.0 for Joomla//EN
CALSCALE:GREGORIAN
METHOD:PUBLISH
BEGIN:VTIMEZONE
TZID:Europe/Lisbon
END:VTIMEZONE
BEGIN:VEVENT
UID:06457f765bb06365aaf3a97ddcf4a875
CATEGORIES:Santos
SUMMARY:Beato Domingos Metódio Treka
DESCRIPTION;ENCODING=QUOTED-PRINTABLE:
DTSTAMP:20260422T015454Z
DTSTART;TZID=Europe/Lisbon;VALUE=DATE:20280824
DTEND;TZID=Europe/Lisbon;VALUE=DATE:20280825
SEQUENCE:0
TRANSP:OPAQUE
END:VEVENT
END:VCALENDAR