BEGIN:VCALENDAR
VERSION:2.0
PRODID:-//jEvents 2.0 for Joomla//EN
CALSCALE:GREGORIAN
METHOD:PUBLISH
BEGIN:VTIMEZONE
TZID:Europe/Lisbon
END:VTIMEZONE
BEGIN:VEVENT
UID:d91310526aa5b4a9fb2156c171998855
CATEGORIES:Santos
SUMMARY:São Luís
DESCRIPTION;ENCODING=QUOTED-PRINTABLE:
DTSTAMP:20260422T013811Z
DTSTART;TZID=Europe/Lisbon;VALUE=DATE:20280824
DTEND;TZID=Europe/Lisbon;VALUE=DATE:20280825
SEQUENCE:0
TRANSP:OPAQUE
END:VEVENT
END:VCALENDAR