BEGIN:VCALENDAR
VERSION:2.0
PRODID:-//jEvents 2.0 for Joomla//EN
CALSCALE:GREGORIAN
METHOD:PUBLISH
BEGIN:VTIMEZONE
TZID:Europe/Lisbon
END:VTIMEZONE
BEGIN:VEVENT
UID:abc5e8a88a1611662d7bfdeb1d071bf9
CATEGORIES:Santos
SUMMARY:São Luís IX
DESCRIPTION;ENCODING=QUOTED-PRINTABLE:
DTSTAMP:20260421T215421Z
DTSTART;TZID=Europe/Lisbon;VALUE=DATE:20280824
DTEND;TZID=Europe/Lisbon;VALUE=DATE:20280825
SEQUENCE:0
TRANSP:OPAQUE
END:VEVENT
END:VCALENDAR