BEGIN:VCALENDAR
VERSION:2.0
PRODID:-//jEvents 2.0 for Joomla//EN
CALSCALE:GREGORIAN
METHOD:PUBLISH
BEGIN:VTIMEZONE
TZID:Europe/Lisbon
END:VTIMEZONE
BEGIN:VEVENT
UID:11621f782a970061403ec5b98e356829
CATEGORIES:Santos
SUMMARY:Beata Maria de Jesus Crucificado
DESCRIPTION;ENCODING=QUOTED-PRINTABLE:
DTSTAMP:20260422T032457Z
DTSTART;TZID=Europe/Lisbon;VALUE=DATE:20280824
DTEND;TZID=Europe/Lisbon;VALUE=DATE:20280825
SEQUENCE:0
TRANSP:OPAQUE
END:VEVENT
END:VCALENDAR