BEGIN:VCALENDAR
VERSION:2.0
PRODID:-//jEvents 2.0 for Joomla//EN
CALSCALE:GREGORIAN
METHOD:PUBLISH
BEGIN:VTIMEZONE
TZID:Europe/Lisbon
END:VTIMEZONE
BEGIN:VEVENT
UID:67d67c3557dbf69e29cccc1a49140287
CATEGORIES:Santos
SUMMARY:São Luís de França
DESCRIPTION;ENCODING=QUOTED-PRINTABLE:
DTSTAMP:20260421T143926Z
DTSTART;TZID=Europe/Lisbon;VALUE=DATE:20270825
DTEND;TZID=Europe/Lisbon;VALUE=DATE:20270826
SEQUENCE:0
TRANSP:OPAQUE
END:VEVENT
END:VCALENDAR