BEGIN:VCALENDAR
VERSION:2.0
PRODID:-//jEvents 2.0 for Joomla//EN
CALSCALE:GREGORIAN
METHOD:PUBLISH
BEGIN:VTIMEZONE
TZID:Europe/Lisbon
END:VTIMEZONE
BEGIN:VEVENT
UID:b7c586ba22b1f60a7ab1d690d1a1f13d
CATEGORIES:Santos
SUMMARY:Beato Bernardo de Offida
DESCRIPTION;ENCODING=QUOTED-PRINTABLE:
DTSTAMP:20260421T222748Z
DTSTART;TZID=Europe/Lisbon;VALUE=DATE:20290823
DTEND;TZID=Europe/Lisbon;VALUE=DATE:20290824
SEQUENCE:0
TRANSP:OPAQUE
END:VEVENT
END:VCALENDAR