BEGIN:VCALENDAR
VERSION:2.0
PRODID:-//jEvents 2.0 for Joomla//EN
CALSCALE:GREGORIAN
METHOD:PUBLISH
BEGIN:VTIMEZONE
TZID:Europe/Lisbon
END:VTIMEZONE
BEGIN:VEVENT
UID:710c0afae2e88eb2bd2331ba018f9816
CATEGORIES:Santos
SUMMARY:São Gregório Nazianzeno (Nazianzo)
DESCRIPTION;ENCODING=QUOTED-PRINTABLE:\n\n\n\n\n \nGregório era filho do Bispo de Nazianzo,na Capadócia. Estudou 
 em Constantinopla, Alexandria e Atenas, onde conheceu Basílio, o Grande (sa
 nto também celebrado neste dia).\nGregório foi nomeado bispo de Constantino
 pla e foi fundamental na criação do Credo de Niceia, no Concílio de Constan
 tinopla do ano de 381.\n\nPode consultar aqui o Credo de Niceia.\n\nNascime
 nto: Ano 329 d.C em Nazianzo (Turquia)\nMorte: Ano 390 d.C. Nazianzo\n
DTSTAMP:20260421T043141Z
DTSTART;TZID=Europe/Lisbon;VALUE=DATE:20270102
DTEND;TZID=Europe/Lisbon;VALUE=DATE:20270103
SEQUENCE:0
TRANSP:OPAQUE
END:VEVENT
END:VCALENDAR