BEGIN:VCALENDAR
VERSION:2.0
PRODID:-//jEvents 2.0 for Joomla//EN
CALSCALE:GREGORIAN
METHOD:PUBLISH
BEGIN:VTIMEZONE
TZID:Europe/Lisbon
END:VTIMEZONE
BEGIN:VEVENT
UID:2dbe05c6c0191d273b0c14b9865f332a
CATEGORIES:Santos
SUMMARY:São Bernardo
DESCRIPTION;ENCODING=QUOTED-PRINTABLE:
DTSTAMP:20260421T215345Z
DTSTART;TZID=Europe/Lisbon;VALUE=DATE:20270820
DTEND;TZID=Europe/Lisbon;VALUE=DATE:20270821
SEQUENCE:0
TRANSP:OPAQUE
END:VEVENT
END:VCALENDAR