BEGIN:VCALENDAR
VERSION:2.0
PRODID:-//jEvents 2.0 for Joomla//EN
CALSCALE:GREGORIAN
METHOD:PUBLISH
BEGIN:VEVENT
UID:6af94788fd33b33a2026c570b736cbd9
CATEGORIES:Santos
SUMMARY:São Luís de Tolosa
DESCRIPTION;ENCODING=QUOTED-PRINTABLE:
DTSTAMP:20260424T004801Z
DTSTART;TZID=Europe/Lisbon;VALUE=DATE:20420819
DTEND;TZID=Europe/Lisbon;VALUE=DATE:20420820
SEQUENCE:0
TRANSP:OPAQUE
END:VEVENT
END:VCALENDAR