BEGIN:VCALENDAR
VERSION:2.0
PRODID:-//jEvents 2.0 for Joomla//EN
CALSCALE:GREGORIAN
METHOD:PUBLISH
BEGIN:VEVENT
UID:eec1228599279fedc37b08afd1d3aa9b
CATEGORIES:Santos
SUMMARY:Beato Bernardo Ptolomeu
DESCRIPTION;ENCODING=QUOTED-PRINTABLE:
DTSTAMP:20260423T124223Z
DTSTART;TZID=Europe/Lisbon;VALUE=DATE:20390819
DTEND;TZID=Europe/Lisbon;VALUE=DATE:20390820
SEQUENCE:0
TRANSP:OPAQUE
END:VEVENT
END:VCALENDAR