BEGIN:VCALENDAR
VERSION:2.0
PRODID:-//jEvents 2.0 for Joomla//EN
CALSCALE:GREGORIAN
METHOD:PUBLISH
BEGIN:VTIMEZONE
TZID:Europe/Lisbon
END:VTIMEZONE
BEGIN:VEVENT
UID:eec1228599279fedc37b08afd1d3aa9b
CATEGORIES:Santos
SUMMARY:Beato Bernardo Ptolomeu
DESCRIPTION;ENCODING=QUOTED-PRINTABLE:
DTSTAMP:20260422T000745Z
DTSTART;TZID=Europe/Lisbon;VALUE=DATE:20300819
DTEND;TZID=Europe/Lisbon;VALUE=DATE:20300820
SEQUENCE:0
TRANSP:OPAQUE
END:VEVENT
END:VCALENDAR