BEGIN:VCALENDAR
VERSION:2.0
PRODID:-//jEvents 2.0 for Joomla//EN
CALSCALE:GREGORIAN
METHOD:PUBLISH
BEGIN:VTIMEZONE
TZID:Europe/Lisbon
END:VTIMEZONE
BEGIN:VEVENT
UID:096049a362adebbe225ed2c1824a76d2
CATEGORIES:Santos
SUMMARY:Sabas (Savas) da Sérvia
DESCRIPTION;ENCODING=QUOTED-PRINTABLE:\n\n\nNasceu como príncipe Rastko Nemanjic, filho mais novo do príncipe Ste
 fan I Nemanjic, posteriormente S. Simeão (http://www.paroquia-almancil.pt/u
 tilidades/vida-dos-santos/icalrepeat.detail/2018/02/13/13355/-/sime%C3%A3o-
 pai-de-sabas.html).\nPara evitar o casamento Sabas passou grande parte do i
 nício da vida adulta como monge no monte Atos, na Grécia, onde ele e o pai 
 fundaram o mosteiro sérvio de Hilander. Regressou à Sérvia em 1207, levando
  ao final da guerra civil que estalara entre os seus irmãos. \nEm 1219 foi 
 nomeado primeiro arcebispo de Zica e líder da nova Igreja sérvia independen
 te.\nDepois de ter renunciado ao cargo de arcebispo em 1230, viajou bastant
 e. Morreu com pneumonia em 1237 na Bulgária.\n\nNascimento: ano 1174 d,C., 
 em Rastko na Sérvia\nMorte: ano 1237 d.C., em Trnovo, na Bulgária\n
DTSTAMP:20260420T202837Z
DTSTART;TZID=Europe/Lisbon;VALUE=DATE:20240114
DTEND;TZID=Europe/Lisbon;VALUE=DATE:20240115
SEQUENCE:0
TRANSP:OPAQUE
END:VEVENT
END:VCALENDAR