BEGIN:VCALENDAR
VERSION:2.0
PRODID:-//jEvents 2.0 for Joomla//EN
CALSCALE:GREGORIAN
METHOD:PUBLISH
BEGIN:VTIMEZONE
TZID:Europe/Lisbon
END:VTIMEZONE
BEGIN:VEVENT
UID:4a6a5808f50cb7502cdf212265e8eb5a
CATEGORIES:Santos
SUMMARY:São João Eudes
DESCRIPTION;ENCODING=QUOTED-PRINTABLE:
DTSTAMP:20260421T233634Z
DTSTART;TZID=Europe/Lisbon;VALUE=DATE:20270819
DTEND;TZID=Europe/Lisbon;VALUE=DATE:20270820
SEQUENCE:0
TRANSP:OPAQUE
END:VEVENT
END:VCALENDAR