BEGIN:VCALENDAR
VERSION:2.0
PRODID:-//jEvents 2.0 for Joomla//EN
CALSCALE:GREGORIAN
METHOD:PUBLISH
BEGIN:VTIMEZONE
TZID:Europe/Lisbon
END:VTIMEZONE
BEGIN:VEVENT
UID:6c3f6f2ef5eae91a1c8e8da6242d3a79
CATEGORIES:Santos
SUMMARY:Santo Alberto Hurtado Cruchaga
DESCRIPTION;ENCODING=QUOTED-PRINTABLE:
DTSTAMP:20260421T163508Z
DTSTART;TZID=Europe/Lisbon;VALUE=DATE:20270818
DTEND;TZID=Europe/Lisbon;VALUE=DATE:20270819
SEQUENCE:0
TRANSP:OPAQUE
END:VEVENT
END:VCALENDAR