BEGIN:VCALENDAR
VERSION:2.0
PRODID:-//jEvents 2.0 for Joomla//EN
CALSCALE:GREGORIAN
METHOD:PUBLISH
BEGIN:VTIMEZONE
TZID:Europe/Lisbon
END:VTIMEZONE
BEGIN:VEVENT
UID:aa34a3045ddc74f0f81c33e200c0130a
CATEGORIES:Santos
SUMMARY:Beato Manés
DESCRIPTION;ENCODING=QUOTED-PRINTABLE:
DTSTAMP:20260421T234142Z
DTSTART;TZID=Europe/Lisbon;VALUE=DATE:20270818
DTEND;TZID=Europe/Lisbon;VALUE=DATE:20270819
SEQUENCE:0
TRANSP:OPAQUE
END:VEVENT
END:VCALENDAR