BEGIN:VCALENDAR
VERSION:2.0
PRODID:-//jEvents 2.0 for Joomla//EN
CALSCALE:GREGORIAN
METHOD:PUBLISH
BEGIN:VTIMEZONE
TZID:Europe/Lisbon
END:VTIMEZONE
BEGIN:VEVENT
UID:66969ff9cbc52069a694242a3ef6afcb
CATEGORIES:Santos
SUMMARY:Beatos João Luís Loir, Protásio Bourdon, Sebastião François
DESCRIPTION;ENCODING=QUOTED-PRINTABLE:
DTSTAMP:20260422T052527Z
DTSTART;TZID=Europe/Lisbon;VALUE=DATE:20290818
DTEND;TZID=Europe/Lisbon;VALUE=DATE:20290819
SEQUENCE:0
TRANSP:OPAQUE
END:VEVENT
END:VCALENDAR