BEGIN:VCALENDAR
VERSION:2.0
PRODID:-//jEvents 2.0 for Joomla//EN
CALSCALE:GREGORIAN
METHOD:PUBLISH
BEGIN:VTIMEZONE
TZID:Europe/Lisbon
END:VTIMEZONE
BEGIN:VEVENT
UID:89d0292a7a75ea8753f49f0e0ea0042f
CATEGORIES:Santos
SUMMARY:Beatos João Baptista Duverneuil, Miguel Luís Brulard, Tiago Gagnot
DESCRIPTION;ENCODING=QUOTED-PRINTABLE:
DTSTAMP:20260422T225214Z
DTSTART;TZID=Europe/Lisbon;VALUE=DATE:20360817
DTEND;TZID=Europe/Lisbon;VALUE=DATE:20360818
SEQUENCE:0
TRANSP:OPAQUE
END:VEVENT
END:VCALENDAR