BEGIN:VCALENDAR
VERSION:2.0
PRODID:-//jEvents 2.0 for Joomla//EN
CALSCALE:GREGORIAN
METHOD:PUBLISH
BEGIN:VTIMEZONE
TZID:Europe/Lisbon
END:VTIMEZONE
BEGIN:VEVENT
UID:0c80ec7d75fbb71e5c31c95bca6b911b
CATEGORIES:Santos
SUMMARY:São Roque
DESCRIPTION;ENCODING=QUOTED-PRINTABLE:
DTSTAMP:20260422T013754Z
DTSTART;TZID=Europe/Lisbon;VALUE=DATE:20280815
DTEND;TZID=Europe/Lisbon;VALUE=DATE:20280816
SEQUENCE:0
TRANSP:OPAQUE
END:VEVENT
END:VCALENDAR