BEGIN:VCALENDAR
VERSION:2.0
PRODID:-//jEvents 2.0 for Joomla//EN
CALSCALE:GREGORIAN
METHOD:PUBLISH
BEGIN:VEVENT
UID:48fcacc332493d5434a64a59010c676a
CATEGORIES:Santos
SUMMARY:Beata Maria Sacrário de São Luís Gonzaga
DESCRIPTION;ENCODING=QUOTED-PRINTABLE:
DTSTAMP:20260425T042634Z
DTSTART;TZID=Europe/Lisbon;VALUE=DATE:20520815
DTEND;TZID=Europe/Lisbon;VALUE=DATE:20520816
SEQUENCE:0
TRANSP:OPAQUE
END:VEVENT
END:VCALENDAR