BEGIN:VCALENDAR
VERSION:2.0
PRODID:-//jEvents 2.0 for Joomla//EN
CALSCALE:GREGORIAN
METHOD:PUBLISH
BEGIN:VTIMEZONE
TZID:Europe/Lisbon
END:VTIMEZONE
BEGIN:VEVENT
UID:b9d39a42a1636313a21f01bb3d288cc8
CATEGORIES:Santos
SUMMARY:Santo Estevão da Hungria
DESCRIPTION;ENCODING=QUOTED-PRINTABLE:
DTSTAMP:20260421T200136Z
DTSTART;TZID=Europe/Lisbon;VALUE=DATE:20270816
DTEND;TZID=Europe/Lisbon;VALUE=DATE:20270817
SEQUENCE:0
TRANSP:OPAQUE
END:VEVENT
END:VCALENDAR