BEGIN:VCALENDAR
VERSION:2.0
PRODID:-//jEvents 2.0 for Joomla//EN
CALSCALE:GREGORIAN
METHOD:PUBLISH
BEGIN:VTIMEZONE
TZID:Europe/Lisbon
END:VTIMEZONE
BEGIN:VEVENT
UID:f776c8579de137b721b352d7b27f90aa
CATEGORIES:Santos
SUMMARY:São Tarásio
DESCRIPTION;ENCODING=QUOTED-PRINTABLE:
DTSTAMP:20260421T233716Z
DTSTART;TZID=Europe/Lisbon;VALUE=DATE:20270815
DTEND;TZID=Europe/Lisbon;VALUE=DATE:20270816
SEQUENCE:0
TRANSP:OPAQUE
END:VEVENT
END:VCALENDAR