BEGIN:VCALENDAR
VERSION:2.0
PRODID:-//jEvents 2.0 for Joomla//EN
CALSCALE:GREGORIAN
METHOD:PUBLISH
BEGIN:VTIMEZONE
TZID:Europe/Lisbon
END:VTIMEZONE
BEGIN:VEVENT
UID:53df4d719aa6bb93f4f1892c1666e0d3
CATEGORIES:Santos
SUMMARY:George Fox
DESCRIPTION;ENCODING=QUOTED-PRINTABLE:\n\n\nGeorge Fox foi o mais influente dos não-conformistas gerados pela agi
 tação religiosa reformista que atormentou a Inglaterra seiscentista.\nFundo
 u a Sociedade Religiosa dos Amigos, ou "quacres", como vieram mais tarde a 
 ficar conhecidos.\n\nNascimento: ano 1624 d.C. em Leicestershire, Inglaterr
 a\nMorte: ano 1691 d.C. em Londres, Inglaterra\n
DTSTAMP:20260420T205743Z
DTSTART;TZID=Europe/Lisbon;VALUE=DATE:20250113
DTEND;TZID=Europe/Lisbon;VALUE=DATE:20250114
SEQUENCE:0
TRANSP:OPAQUE
END:VEVENT
END:VCALENDAR