BEGIN:VCALENDAR
VERSION:2.0
PRODID:-//jEvents 2.0 for Joomla//EN
CALSCALE:GREGORIAN
METHOD:PUBLISH
BEGIN:VEVENT
UID:75d117ba21d37b8f23b01cbffce8b8cd
CATEGORIES:Santos
SUMMARY:Jeremy Taylor
DESCRIPTION;ENCODING=QUOTED-PRINTABLE:
DTSTAMP:20260424T061312Z
DTSTART;TZID=Europe/Lisbon;VALUE=DATE:20440812
DTEND;TZID=Europe/Lisbon;VALUE=DATE:20440813
SEQUENCE:0
TRANSP:OPAQUE
END:VEVENT
END:VCALENDAR