BEGIN:VCALENDAR
VERSION:2.0
PRODID:-//jEvents 2.0 for Joomla//EN
CALSCALE:GREGORIAN
METHOD:PUBLISH
BEGIN:VTIMEZONE
TZID:Europe/Lisbon
END:VTIMEZONE
BEGIN:VEVENT
UID:75d117ba21d37b8f23b01cbffce8b8cd
CATEGORIES:Santos
SUMMARY:Jeremy Taylor
DESCRIPTION;ENCODING=QUOTED-PRINTABLE:
DTSTAMP:20260421T215345Z
DTSTART;TZID=Europe/Lisbon;VALUE=DATE:20270813
DTEND;TZID=Europe/Lisbon;VALUE=DATE:20270814
SEQUENCE:0
TRANSP:OPAQUE
END:VEVENT
END:VCALENDAR