BEGIN:VCALENDAR
VERSION:2.0
PRODID:-//jEvents 2.0 for Joomla//EN
CALSCALE:GREGORIAN
METHOD:PUBLISH
BEGIN:VTIMEZONE
TZID:Europe/Lisbon
END:VTIMEZONE
BEGIN:VEVENT
UID:0f97768bfa217801bd254a56c0995eee
CATEGORIES:Santos
SUMMARY:São Cassius de Imola
DESCRIPTION;ENCODING=QUOTED-PRINTABLE:
DTSTAMP:20260423T073710Z
DTSTART;TZID=Europe/Lisbon;VALUE=DATE:20330813
DTEND;TZID=Europe/Lisbon;VALUE=DATE:20330814
SEQUENCE:0
TRANSP:OPAQUE
END:VEVENT
END:VCALENDAR