BEGIN:VCALENDAR
VERSION:2.0
PRODID:-//jEvents 2.0 for Joomla//EN
CALSCALE:GREGORIAN
METHOD:PUBLISH
BEGIN:VTIMEZONE
TZID:Europe/Lisbon
END:VTIMEZONE
BEGIN:VEVENT
UID:8686b4b3d39a1f3afed8cf0393f7a70c
CATEGORIES:Santos
SUMMARY:Beatos Filipe de Jesus, Munáriz e Companheiros
DESCRIPTION;ENCODING=QUOTED-PRINTABLE:
DTSTAMP:20260421T122306Z
DTSTART;TZID=Europe/Lisbon;VALUE=DATE:20220813
DTEND;TZID=Europe/Lisbon;VALUE=DATE:20220814
SEQUENCE:0
TRANSP:OPAQUE
END:VEVENT
END:VCALENDAR