BEGIN:VCALENDAR
VERSION:2.0
PRODID:-//jEvents 2.0 for Joomla//EN
CALSCALE:GREGORIAN
METHOD:PUBLISH
BEGIN:VTIMEZONE
TZID:Europe/Lisbon
END:VTIMEZONE
BEGIN:VEVENT
UID:e7bb96f840fce2c2d273d99b28c94ca4
CATEGORIES:Santos
SUMMARY:Beato Marcos de Aviano
DESCRIPTION;ENCODING=QUOTED-PRINTABLE:
DTSTAMP:20260422T052904Z
DTSTART;TZID=Europe/Lisbon;VALUE=DATE:20290813
DTEND;TZID=Europe/Lisbon;VALUE=DATE:20290814
SEQUENCE:0
TRANSP:OPAQUE
END:VEVENT
END:VCALENDAR