BEGIN:VCALENDAR
VERSION:2.0
PRODID:-//jEvents 2.0 for Joomla//EN
CALSCALE:GREGORIAN
METHOD:PUBLISH
BEGIN:VTIMEZONE
TZID:Europe/Lisbon
END:VTIMEZONE
BEGIN:VEVENT
UID:01e9ae36436348c7e2b94d13c90e019f
CATEGORIES:Santos
SUMMARY:São Hipólito
DESCRIPTION;ENCODING=QUOTED-PRINTABLE:
DTSTAMP:20260421T233216Z
DTSTART;TZID=Europe/Lisbon;VALUE=DATE:20290813
DTEND;TZID=Europe/Lisbon;VALUE=DATE:20290814
SEQUENCE:0
TRANSP:OPAQUE
END:VEVENT
END:VCALENDAR