BEGIN:VCALENDAR
VERSION:2.0
PRODID:-//jEvents 2.0 for Joomla//EN
CALSCALE:GREGORIAN
METHOD:PUBLISH
BEGIN:VEVENT
UID:3e2e1beb5359bf2e8f3ea95f78d309ad
CATEGORIES:Santos
SUMMARY:Santa Beatriz da Silva
DESCRIPTION;ENCODING=QUOTED-PRINTABLE:
DTSTAMP:20260424T042017Z
DTSTART;TZID=Europe/Lisbon;VALUE=DATE:20420812
DTEND;TZID=Europe/Lisbon;VALUE=DATE:20420813
SEQUENCE:0
TRANSP:OPAQUE
END:VEVENT
END:VCALENDAR