BEGIN:VCALENDAR
VERSION:2.0
PRODID:-//jEvents 2.0 for Joomla//EN
CALSCALE:GREGORIAN
METHOD:PUBLISH
BEGIN:VTIMEZONE
TZID:Europe/Lisbon
END:VTIMEZONE
BEGIN:VEVENT
UID:57a5cb7cfac5d51ee1cc85c33eec8fa9
CATEGORIES:Santos
SUMMARY:Beato Isidoro Bakanja
DESCRIPTION;ENCODING=QUOTED-PRINTABLE:
DTSTAMP:20260421T131318Z
DTSTART;TZID=Europe/Lisbon;VALUE=DATE:20260812
DTEND;TZID=Europe/Lisbon;VALUE=DATE:20260813
SEQUENCE:0
TRANSP:OPAQUE
END:VEVENT
END:VCALENDAR