BEGIN:VCALENDAR
VERSION:2.0
PRODID:-//jEvents 2.0 for Joomla//EN
CALSCALE:GREGORIAN
METHOD:PUBLISH
BEGIN:VTIMEZONE
TZID:Europe/Lisbon
BEGIN:STANDARD
DTSTART:20200113T000000
RDATE:20200329T020000
TZOFFSETFROM:+0100
TZOFFSETTO:+0000
TZNAME:Europe/Lisbon WET
END:STANDARD
BEGIN:STANDARD
DTSTART:20201025T010000
RDATE:20210328T020000
TZOFFSETFROM:+0100
TZOFFSETTO:+0000
TZNAME:Europe/Lisbon WET
END:STANDARD
BEGIN:DAYLIGHT
DTSTART:20200329T020000
RDATE:20201025T010000
TZOFFSETFROM:+0000
TZOFFSETTO:+0100
TZNAME:Europe/Lisbon WEST
END:DAYLIGHT
END:VTIMEZONE
BEGIN:VEVENT
UID:fc12d845c43636ecf9ae75dccc39bdfe
CATEGORIES:Santos
SUMMARY:Kentigern (Mungo)
DESCRIPTION;ENCODING=QUOTED-PRINTABLE:\n\n\nKentigern terá sido o filho ilegítimo de uma princesa celta. Kentiger
 n significa "primeiro principe", Mungo significa "querido". Kentigern foi n
 omeado bispo de Strathclyde em 540. Foram-lhe atribuídos imensos milagres.\
 n\nNascimento: ano 515 d.C.\nMorte: ano 600 d.C.\n\n\n \n\n\n \n
DTSTAMP:20260420T074555Z
DTSTART;TZID=Europe/Lisbon;VALUE=DATE:20210113
DTEND;TZID=Europe/Lisbon;VALUE=DATE:20210114
SEQUENCE:0
TRANSP:OPAQUE
END:VEVENT
END:VCALENDAR