BEGIN:VCALENDAR
VERSION:2.0
PRODID:-//jEvents 2.0 for Joomla//EN
CALSCALE:GREGORIAN
METHOD:PUBLISH
BEGIN:VTIMEZONE
TZID:Europe/Lisbon
END:VTIMEZONE
BEGIN:VEVENT
UID:31bfc0d50740a6e1c4ebd2066b49d5c2
CATEGORIES:Santos
SUMMARY:Santa Joana Francisca de Chantal
DESCRIPTION;ENCODING=QUOTED-PRINTABLE:
DTSTAMP:20260422T102342Z
DTSTART;TZID=Europe/Lisbon;VALUE=DATE:20320811
DTEND;TZID=Europe/Lisbon;VALUE=DATE:20320812
SEQUENCE:0
TRANSP:OPAQUE
END:VEVENT
END:VCALENDAR