BEGIN:VCALENDAR
VERSION:2.0
PRODID:-//jEvents 2.0 for Joomla//EN
CALSCALE:GREGORIAN
METHOD:PUBLISH
BEGIN:VTIMEZONE
TZID:Europe/Lisbon
END:VTIMEZONE
BEGIN:VEVENT
UID:da60d80c1ae89260270da2a506ac31d4
CATEGORIES:Santos
SUMMARY:Santa Suzana
DESCRIPTION;ENCODING=QUOTED-PRINTABLE:
DTSTAMP:20260421T215345Z
DTSTART;TZID=Europe/Lisbon;VALUE=DATE:20270811
DTEND;TZID=Europe/Lisbon;VALUE=DATE:20270812
SEQUENCE:0
TRANSP:OPAQUE
END:VEVENT
END:VCALENDAR